Workbook
Name BreakevenAnalysis: 'Break-Even Analysis'!$C$3
Name COGMSchedule: 'COGM Schedule'!$C$3
Name CompanyName: 'Company Profile'!$D$5
Name CompanyProfile: 'Company Profile'!$C$3
Name ContributionMargin: 'Contribution Margin Analysis'!$C$3
Name CostClassification: 'Cost Classification'!$C$3
Name Home: Instructions!$A$1
Name IncomeStatement: 'Income Statement'!$C$3
Name InstructionsMilestone1: 'Instructions - Milestone 1'!$A$1
Name InstructionsMilestone2: 'Instructions - Milestone 2'!$A$1
Name InstructionsMilestone3: 'Instructions - Milestone 3'!$A$1
Name VariableFixedCosts: Variable_Fixed!$C$3
Name Variances: Variances!$C$3

Sheet Instructions
A1: Southern New Hampshire University
A2: College of Continuing Education (COCE)
A4: ACC202 - Managerial Accounting
A7: MILESTONE 1 (Due in Module 2) | E7: MILESTONE 2 (Due in Module 4) | J7: MILESTONE 3 (Due in Module 5)
A12: 1. | F12: 1. | K12: 1.
B14: Name | G14: Choose a price range and calculate: | L14: Create a Cost of Goods Manufactured Schedule
B15: Location | G15: Grooming
B16: Vision | G16: Day Care
B17: Mission | G17: Boarding
A19: 2. | F19: 2. | K19: 2.
B21: Identify the following: | G21: Calculate the break-even units | L21: Create an Income Statement
B22: Direct Materials | G22: Grooming | L22: Revenue will be provided end of week 4
B23: Diret Labor | G23: Day Care
B24: Manufacturing Overhead | G24: Boarding
B25: Period Costs | G25: Calculate the break-even for target profits
A27: 3. | G27: Grooming | K27: 3.
G28: Day Care
B29: Calculate the Variable & Fixed Costs for: | G29: Boarding | L29: Calculate for the Grooming line:
B30: Grooming | L30: Direct Labor Time Variance
B31: Day Care | L31: Direct Labor Rate Variance
B32: Boarding | L32: Direct Materials Efficiency Variance
L33: Direct Materials Price Variance

Sheet Instructions - Milestone 1
A1: Southern New Hampshire University
A2: College of Continuing Education (COCE)
A4: ACC202 - Managerial Accounting
A8: INSTRUCTIONS FOR MILESTONE 1 (Due Week 2)
A10: IMPORTANT NOTE:
A12: Make sure to completely review the Rubric for Milestone 1
A14: Use the data from this Milestone and begin working on your final presentation due in Milestone 4 (Week 7)
A18: ITEMS TO COMPLETE FOR THIS MILESTONE (Blue Tabs):
A20: GENERAL
A22: You plan to open a pet services business that will offer dog grooming, day care and boarding
A24: COMPANY PROFILE TAB
A26: Determine a company name. Be creative (e.g. "Inspiring Dog Care")
... A73: Grooming:
A74: Dog Grooming Arm - $300 | E74: .
A75: Grooming Table - $900
A76: Grooming Tub - $2,800
A77: Clippers - $136.99; can be used for 100 grooms
A78: Shampoo - $103.96 per 5-gallon pail; can be used for 100 grooms
A79: Salon Tuff Capri Mobile Carry Cart - $90
A80: Scissors (7 inch straight) - $194.99; used for 200 grooms
A81: Scissors (ear and nose) - $7.49; used for 200 grooms
A82: Day Care:
A83: Fencing for Day Care area - $1,249
A84: Fencing Installation - $1,000
A85: Toys - $3.29 per 6 pack; one toy will last for two dogs in day care per day
A86: Rubberized Flooring for Day Care - $3,800
... A105: Simple Green - $15.66 per gallon; Each area will dilute 1 oz to 1 gallon of water; Allocate based on square footage
E108: .

Sheet Company Profile
C3: MILESTONE 1 - Company Profile
C5: Compnay Name | D5: HAPPY PET DOG CARE
C7: Location | D7: TEXAS
C9: Vision | D9: To be the ultimate dog care professionals that provide high quality and pet friendly services in an innovative and enjoyable manner.
C11: Mission | D11: To develop well groomed and mentally sound dogs by providing quality services with commitment to professional pet care.

Sheet Cost Classification
C3: =CompanyName -> HAPPY PET DOG CARE
C4: MILESTONE 1 - Cost Classification Exercise
C7: INSTRUCTIONS:
C8: Classify each item or cost as: Direct Material, Direct Labor, Manufacturing Overhead or Period Costs.
C9: The fixed and variable cost classifications have been provided for you. For more information see Objective 1 in Chapter 5.
C11: Item/Cost | D11: Direct Material | E11: Direct Labor | F11: Manufacturing Overhead | G11: Period Costs | H11: Fixed | I11: Variable
C13: Groomer | E13: X | H13: X
C14: Day care attendant | E14: x | I14: X
C15: Receptionist | F15: x
C16: Kennel attendant | E16: x | I16: X
C17: Food and water bowls | D17: x | I17: X
C18: Fencing for day care area | F18: x
C19: Installation of fencing | F19: x
C20: Dog grooming arm (attaches to table) | F20: x
C21: 12 kennels cost | F21: x
C22: Depreciation on kennels | G22: x | H22: X
C23: Rent | G23: x | H23: X
C24: Utilties and insurance | G24: x | H24: X
C25: Grooming table | F25: x
C26: Grooming tub 48" | F26: x
C27: Heating system | F27: x
C28: Depreciation on heating system | G28: x | H28: X
C29: Clippers | D29: x | I29: X
C30: Shampoo (Crystal Clear: five-gallon pail) | D30: x | I30: X
C31: Cage bank (set of five) | F31: x
C32: Salon Tuff Capri mobile carry cart | F32: x
C33: Towels | D33: x | I33: X
C34: Scissors (7-inch straight, ear & nose) | D34: x | I34: X
C35: Toys (used in day care only) | D35: x | I35: X
C36: Cleaning products (used throughout) | F36: x | H36: X
C37: Dryer | F37: x
C38: Rubberized flooring (day care) | F38: x
C39: Loan | G39: x | H39: X
C40: Draw | G40: x | H40: X

Sheet Variable_Fixed
C3: =CompanyName -> HAPPY PET DOG CARE
C4: MILESTONE 1 - Variable & Fixed Cost Exercise
C7: INSTRUCTIONS:
C8: Determine the per unit cost for each dog.
C9: Fill in the blanks to get the per unit cost and fixed cost of each service.
C11: Based on 5 grooms per day
C12: GROOMING
C14: Item | D14: Variable Costs | F14: Item | G14: Fixed Costs
C16: Shampoo | D16: 1.04 | F16: Groomer | G16: 2080.01
C17: Clipper(s) | D17: =ROUND(136.99/100,2) -> 1.37 | F17: Rent | G17: =ROUND(650*(200/4200),2) -> 30.95
C18: Bowls | D18: =ROUND((20*3.59)/100,2) -> 0.72 | F18: Loan | G18: =ROUND(420*(200/4200),2) -> 20
C19: Towels | D19: =ROUND((34.99/12)*2,2) -> 5.83 | F19: Utilities and Insurance | G19: =ROUND(600*(200/4200),2) -> 28.57
C20: Scissors | D20: =ROUND(((194.99+7.49)/200),2) -> 1.01 | F20: Depreciation on heating system | G20: =ROUND(83*(200/4200),2) -> 3.95
F21: Cleaning Products: Odoban | G21: =ROUND(43.65*(200/4200),2) -> 2.08
F22: Cleaning Products: Simple Green | G22: =ROUND(49.65*(200/4200),2) -> 2.36
F23: Draw | G23: =ROUND(600/3,2) -> 200
C25: Total Variable Costs | D25: 9.97 | F25: Total Fixed Costs | G25: 2367.92
C28: Based on 22 dogs per day for six days a week. Assume 25 operating days for kennel and 22 eight-hour work days for kennel attendant.
C29: DAY CARE
C31: Item | D31: Variable Costs | F31: Item | G31: Fixed Costs
C33: Day care attendant | D33: =ROUND((9*8)*22/550,2) -> 2.88 | F33: Rent | G33: =ROUND(650*(1500/4200),2) -> 232.14
C34: Toys | D34: =ROUND((3.29/6)/2,2) -> 0.27 | F34: Loan | G34: =ROUND(420*(1500/4200),2) -> 150
C35: Bowls | D35: =ROUND((2*3.59)/75,2) -> 0.1 | F35: Utilities and Insurance | G35: 214.29
C36: Towels | D36: =ROUND(34.99/25,2) -> 1.4 | F36: Depreciation on heating system | G36: =ROUND(83*(1500/4200),2) -> 29.64
F37: Cleaning Products: Odoban | G37: =ROUND(43.65*(1500/4200),2) -> 15.59
F38: Cleaning Products: Simple Green | G38: 16.78
F39: Draw | G39: =ROUND(600/3,2) -> 200
C41: Total Variable Costs | D41: 4.65 | F41: Total Fixed Costs | G41: 858.44
C44: Based on 12 dogs per day. Assume 22 eight-hour work days for kennel attendant.
C45: BOARDING
C47: Item | D47: Variable Costs | F47: Item | G47: Fixed Costs
C49: Kennel attendant | D49: 5.63 | F49: Depreciation on kennels | G49: 80
C50: Bowls | D50: =ROUND((3.59*2*12)/100,2) -> 0.86 | F50: Rent | G50: =ROUND(650*(2500/4200),2) -> 386.9
C51: Towels | D51: =ROUND(34.99/40,2) -> 0.87 | F51: Loan | G51: =ROUND(420*(2500/4200),2) -> 250
F52: Utilities and Insurance | G52: 357.16
F53: Depreciation on heating system | G53: =ROUND(83*(2500/4200),2) -> 49.4
F54: Cleaning Products: Odoban | G54: =ROUND(43.65*(2500/4200),2) -> 25.98
F55: Cleaning Products: Simple Green | G55: =ROUND(49.65*(2500/4200),2) -> 29.55
F56: Draw | G56: =ROUND(600/3,2) -> 200
C58: Total Variable Costs | D58: 7.36 | F58: Total Fixed Costs | G58: 1378.9881
...

Sheet Instructions - Milestone 2
A1: Southern New Hampshire University
A2: College of Continuing Education (COCE)
A4: ACC202 - Managerial Accounting
A8: INSTRUCTIONS FOR MILESTONE 2 (Due Week 4)
A10: IMPORTANT NOTE:
A12: Make sure to completely review the Rubric for Milestone 2
A14: Use the data from this Milestone and begin working on your final presentation due in Milestone 4 (Week 7)
A18: ITEMS TO COMPLETE FOR THIS MILESTONE (Green Tabs):
A20: GENERAL
A22: Use data from Milestone 1 in your analysis
A24: CONTRIBUTION MARGIN ANALYSIS
A26: Select a price for each service (grooming, day care, boarding)
... A35: Calculate the break-even units (round up) for suggested target profit levels for each service

Sheet Contribution Margin Analysis
C3: =CompanyName -> HAPPY PET DOG CARE
C4: MILESTONE 2 - Contribution Margin per Unit & Contribution Margin Ratio
C7: INSTRUCTIONS:
C8: Select a price from the scenarios below and compute the contribution for each service based on your selected price.
C9: Variable cost per unit comes from your Variable_Fixed tab completed in Milestone 1.
C11: SCENARIO (choose one from each category):
C12: Dog Day Care
C13: 1. With pricing at $18 per dog per day, you can expect to have 22 dogs per day.
C14: 2. With pricing at $20 per dog per day, you can expect to have 15 dogs per day.
C15: 3. With pricing at $25 per dog per day, you can expect to have 10 dogs per day.
C16: Overnight Boarding
C17: 1. With pricing at $25 per dog per day, you can expect to have 12 dogs per day.
C18: 2. With pricing at $28 per dog per day, you can expect to have 10 dogs per day.
... C23: 3. With pricing at $35 per dog per day, you can expect to have 3 dogs per day.
D26: DAY CARE | F26: BOARDING | H26: GROOMING
C28: Sales Price | D28: 18 | F28: 25 | H28: 25
C29: Variable Cost per Unit | D29: =Variable_Fixed!D41 -> 4.65 | F29: =Variable_Fixed!D58 -> 7.36 | H29: =Variable_Fixed!D25 -> 9.97
C31: Contribution Margin | D31: =D28-D29 -> 13.35 | F31: =F28-F29 -> 17.64 | H31: =H28-H29 -> 15.03

Sheet Break-Even Analysis
C3: =CompanyName -> HAPPY PET DOG CARE
C4: MILESTONE 2 - Break-Even Analysis
C7: INSTRUCTIONS:
C8: Show all steps and calculations to determine the break-even.
C9: Determine the break-even for the target profit levels as outlined in the instructions.
C12: Break-even = Fixed Costs / Contribution Margin
D15: DAY CARE | F15: BOARDING | H15: GROOMING
C17: Sales Price | D17: ='Contribution Margin Analysis'!D28 -> 18 | F17: ='Contribution Margin Analysis'!F28 -> 25 | H17: ='Contribution Margin Analysis'!H28 -> 25
C19: Fixed Costs | D19: =Variable_Fixed!G41 -> 858.44 | F19: =Variable_Fixed!G58 -> 1378.9881 | H19: =Variable_Fixed!G25 -> 2367.92
C21: Contribution Margin | D21: ='Contribution Margin Analysis'!D31 -> 13.35 | F21: ='Contribution Margin Analysis'!F31 -> 17.64 | H21: ='Contribution Margin Analysis'!H31 -> 15.03
C23: Break-even Units (round up) | D23: =ROUNDUP(D19/D21,0) -> 65 | F23: =ROUNDUP(F19/F21,0) -> 79 | H23: =ROUNDUP(H19/H21,0) -> 158
C27: Target Profit | D27: 417 | F27: 583 | H27: 1000
C29: Break-even Units (round up) | D29: =ROUNDUP((D19+D23)/D21,0) -> 70 | F29: =ROUNDUP((F27+F19)/F21,0) -> 112 | H29: =ROUNDUP((H19+H27)/H21,0) -> 225
C33: Target Profit | D33: 667 | F33: 909 | H33: 1500
C35: Break-even Units (round up) | D35: =ROUNDUP((D33+D19)/D21,0) -> 115 | F35: =ROUNDUP((F33+F19)/F21,0) -> 130 | H35: =ROUNDUP((H33+H19)/H21,0) -> 258

Sheet Instructions - Milestone 3
A1: Southern New Hampshire University
A2: College of Continuing Education (COCE)
A4: ACC202 - Managerial Accounting
A8: INSTRUCTIONS FOR MILESTONE 3 (Due Week 5)
A10: IMPORTANT NOTE:
A12: Make sure to completely review the Rubric for Milestone 3
A14: Use the data from this Milestone and begin working on your final presentation due in Milestone 4 (Week 7)
A18: ITEMS TO COMPLETE FOR THIS MILESTONE (Purple Tabs):
A20: GENERAL
A22: Use data from Milestone 1 and Milestone 2 in your analysis
A23: Revenue data needed for the Income Statement will be provided at the end of Module 4
A25: COST OF SERVICES PROVIDED SCHEDULE
... A38: Favorable / Unfavorable

Sheet COGM Schedule
C3: =CompanyName -> HAPPY PET DOG CARE
C4: MILESTONE 3 - Statement of Cost of Goods Manufactured
C7: INSTRUCTIONS:
C8: The following are the actual numbers for January:
C9: Materials
C10: Purchased $5,000 of Materials
C11: Consumed 40% of those purchased materials
C12: Direct Labor
C13: Direct Labor was $6,240
C14: Factory Overhead
C15: Factory Overhead was $2,800
B18: =CompanyName -> HAPPY PET DOG CARE
B19: Statement of Cost of Goods Manufactured
B20: For the Month Ended January 31, xxxx
C24: Beginning Work in Process Inventory | E24: 0
C25: Direct Materials:
C26: Materials - Beginning | D26: 0
C27: Add: Purchases for month of January | D27: 5000
C29: Materials Available for Use | D29: =D26+D27 -> 5000
C30: Deduct: Ending Materials | D30: =D29-E32 -> 3000
C32: Materials Used in Production | E32: =0.4*5000 -> 2000
C34: Direct Labor | E34: 6240
C35: Factory Overhead | E35: 2800
C37: Total Manufacturing Overhead | E37: =E32+E34+E35 -> 11040
C39: Deduct: Ending Work in Process Inventory | E39: =E37-E41 -> 4865.7
C41: Cost of Goods Manufactured | E41: =('Contribution Margin Analysis'!D29*22*30)+('Contribution Margin Analysis'!F29*10*30)+('Contribution Margin Analysis'!H29*3*30) -> 6174.3

Sheet Income Statement
C3: =CompanyName -> HAPPY PET DOG CARE
C4: MILESTONE 3 - Income Statement
C7: INSTRUCTIONS:
C8: Complete the Statement in proper form
C9: Revenue will be provided in an Announcement at the end of Module 4
C10: (based on actual number of services for your pricing levels)
C12: Additional Information necessary to complete the Income Statement:
C13: General & Administrative Salaries paid = $1,200
C14: Advertising = $100
C15: Cleaning Products = $120
C16: Depreciation = $83
C17: Rent = $650
C18: Loan = $420
C19: Utilities & Insurance = $600
B22: =CompanyName -> HAPPY PET DOG CARE
B23: Income Statement
B24: For the Month Ended January 31, xxxx
C28: Revenue:
C29: Grooming | D29: ='Contribution Margin Analysis'!D28*22*30 -> 11880
C30: Day Care | D30: ='Contribution Margin Analysis'!H28*3*30 -> 2250
C31: Boarding | D31: ='Contribution Margin Analysis'!F28*10*30 -> 7500
C33: Tota Revenue | E33: =SUM(D29:D31) -> 21630
C34: Cost of Goods Sold * | E34: ='COGM Schedule'!E41 -> 6174.3
C35: Gross Profit | E35: =E33-E34 -> 15455.7
C37: Expenses:
C38: G&A Salaries | D38: 1200
C39: Advertising | D39: 100
C40: Cleaning Products | D40: 120
C41: Depreciation | D41: 83
C42: Rent | D42: 650
C43: Loan | D43: 420
C44: Utilities and Insurance | D44: 600
C46: Total Expenses | E46: =SUM(D38:D44) -> 3173
C48: Net Income / Loss | E48: =E35-E46 -> 12282.7
C50: * Cost of Goods Sold = Cost of Goods Manufactured (COGM).
C51: There is no finished goods inventory to maintain.

Sheet Variances
C3: =CompanyName -> HAPPY PET DOG CARE
C4: MILESTONE 3 - Variance Analysis
C7: INSTRUCTIONS:
C8: Prepare the variances and identify whether they are favorable or unfavorable.
C9: The below website will provide further assistance with variances:
C10: http://accounting-simplified.com/management/variance-analysis/material/price.html
C12: DATA FOR VARIANCE ANALYSIS:
D14: Standard Hours / Qty | E14: Standard Rate | F14: Actual Hours / Qty | G14: Actual Rate
C16: Grooming Labor | D16: 150 | E16: 12 | F16: 180 | G16: 11.5
C18: Grooming Materials | D18: 1000 | E18: 2 | F18: 1200 | G18: 3
F22: Variance | G22: Favorable/ Unfavorable
C23: Groomer Direct Labor Time Variance
C24: (Actual Hours - Standard Hours) x Standard Rate | F24: =(F16-D16)*12 -> 360 | G24: Unfavorable
C26: Groomer Direct Labor Rate Variance
C27: (Actual Rate - Standard Rate) x Actual Hours | F27: =(G16-E16)*F16 -> -90 | G27: Favorable
C29: Direct Materials Quantity/Efficiency Variance
C30: (Actual Quantity - Standard Quantity) x Standard Price | F30: =(F18-D18)*E18 -> 400 | G30: Unfavorable
C32: Direct Materials Price Variance
C33: (Actual Price - Standard Price) x Actual Quantity | F33: =(G18-E18)*F18 -> 1200 | G33: UnFavorable
